BEGIN:VCALENDAR
VERSION:2.0
PRODID:-//Nova Scotia Legal Aid - ECPv6.15.20//NONSGML v1.0//EN
CALSCALE:GREGORIAN
METHOD:PUBLISH
X-WR-CALNAME:Nova Scotia Legal Aid
X-ORIGINAL-URL:https://www.nslegalaid.ca
X-WR-CALDESC:Events for Nova Scotia Legal Aid
REFRESH-INTERVAL;VALUE=DURATION:PT1H
X-Robots-Tag:noindex
X-PUBLISHED-TTL:PT1H
BEGIN:VTIMEZONE
TZID:America/Halifax
BEGIN:DAYLIGHT
TZOFFSETFROM:-0400
TZOFFSETTO:-0300
TZNAME:ADT
DTSTART:20180311T060000
END:DAYLIGHT
BEGIN:STANDARD
TZOFFSETFROM:-0300
TZOFFSETTO:-0400
TZNAME:AST
DTSTART:20181104T050000
END:STANDARD
BEGIN:DAYLIGHT
TZOFFSETFROM:-0400
TZOFFSETTO:-0300
TZNAME:ADT
DTSTART:20190310T060000
END:DAYLIGHT
BEGIN:STANDARD
TZOFFSETFROM:-0300
TZOFFSETTO:-0400
TZNAME:AST
DTSTART:20191103T050000
END:STANDARD
BEGIN:DAYLIGHT
TZOFFSETFROM:-0400
TZOFFSETTO:-0300
TZNAME:ADT
DTSTART:20200308T060000
END:DAYLIGHT
BEGIN:STANDARD
TZOFFSETFROM:-0300
TZOFFSETTO:-0400
TZNAME:AST
DTSTART:20201101T050000
END:STANDARD
END:VTIMEZONE
BEGIN:VEVENT
DTSTART;TZID=America/Halifax:20191004T100000
DTEND;TZID=America/Halifax:20191004T140000
DTSTAMP:20260420T152122
CREATED:20190916T125021Z
LAST-MODIFIED:20190916T125059Z
UID:12082-1570183200-1570197600@www.nslegalaid.ca
SUMMARY:Eskasoni NSLA Legal Clinic
DESCRIPTION:Summary advice (quick and limited legal advice) focusing on social justice matters (incoming and housing security issues\, Canada Pension  Plan (CPP) Disability\, Employment Insurance (EI)); criminal law; and family law. Assistance will also be provided to apply for full-service representation where appropriate. Call Alison Aho at 1-877-563-2295 to schedule an appointment. Walk-in visitors will also be seen between 10:00 am and 2:00 pm. Please call ahead to make sure the clinic is open as hours and operation are subject to change.
URL:https://www.nslegalaid.ca/event/eskasoni-nsla-legal-clinic-12-2-2-2-2-2-2-2019-07-05-2019-09-06-2/2019-10-04/
LOCATION:Mi’kmaw Legal Support Network (MLSN)\, 29 Medicine Trail Road\, Eskasoni\, Nova Scotia\, B1W 1B2\, Canada
GEO:45.9260155;-60.6424499
X-APPLE-STRUCTURED-LOCATION;VALUE=URI;X-ADDRESS=Mi’kmaw Legal Support Network (MLSN) 29 Medicine Trail Road Eskasoni Nova Scotia B1W 1B2 Canada;X-APPLE-RADIUS=500;X-TITLE=29 Medicine Trail Road:geo:-60.6424499,45.9260155
END:VEVENT
BEGIN:VEVENT
DTSTART;TZID=America/Halifax:20191003T090000
DTEND;TZID=America/Halifax:20191003T120000
DTSTAMP:20260420T152122
CREATED:20190916T124211Z
LAST-MODIFIED:20190916T124437Z
UID:12076-1570093200-1570104000@www.nslegalaid.ca
SUMMARY:Potlotek (Chapel Island) First Nation NSLA Outreach
DESCRIPTION:Summary advice (quick and limited legal advice) on family law and criminal law matters. If you do not have a lawyer and would like some free legal advice on your legal issue\, drop in for advice on a first-come-first-served basis. Meetings will also be held with existing clients who find it difficult to attend our Port Hawkesbury Office and they should call 625-4047.or toll-free 1-888-817-0116 to schedule an appointment. Assistance is also provided to apply for full-service representation where appropriate.
URL:https://www.nslegalaid.ca/event/potlotek-chapel-island-first-nation-nsla-outreach-2018-06-07-2018-10-04-2-2/2019-10-03/
LOCATION:Potlotek (Chapel Island) First Nation  Band Office\, 12004 HWY #4\, St. Peter’s\, Nova Scotia\, B0E 3B0\, Canada
GEO:45.6880365;-60.7528466
X-APPLE-STRUCTURED-LOCATION;VALUE=URI;X-ADDRESS=Potlotek (Chapel Island) First Nation  Band Office 12004 HWY #4 St. Peter’s Nova Scotia B0E 3B0 Canada;X-APPLE-RADIUS=500;X-TITLE=12004 HWY #4:geo:-60.7528466,45.6880365
END:VEVENT
BEGIN:VEVENT
DTSTART;TZID=America/Halifax:20191002T150000
DTEND;TZID=America/Halifax:20191002T170000
DTSTAMP:20260420T152122
CREATED:20190916T123655Z
LAST-MODIFIED:20190916T123733Z
UID:12061-1570028400-1570035600@www.nslegalaid.ca
SUMMARY:Chat Online with a Social Justice Lawyer
DESCRIPTION:Have questions about Landlord/Tenant issues? Income Assistance? Employment Insurance? CPP Disability? Chat online with a Social Justice Lawyer from 3:00 pm until 5:00 pm. To start a chat session\, click on the chat icon on the bottom right-hand corner of NSLA’s homepage.
URL:https://www.nslegalaid.ca/event/chat-online-with-a-social-justice-lawyer-3-2018-05-18-2018-05-30-2018-06-27-2018-07-11-2018-09-12-2018-11-28-2019-01-30-2-2019-05-01-2019-06-26-2019-09-25-2/2019-10-02/
LOCATION:Online\, Nova Scotia\, Canada
GEO:44.6819866;-63.744311
END:VEVENT
BEGIN:VEVENT
DTSTART;TZID=America/Halifax:20191001T150000
DTEND;TZID=America/Halifax:20191001T170000
DTSTAMP:20260420T152122
CREATED:20190916T122217Z
LAST-MODIFIED:20190916T122343Z
UID:12045-1569942000-1569949200@www.nslegalaid.ca
SUMMARY:Chat Online With a Family Law Lawyer
DESCRIPTION:Have family law questions? Chat online with a Family Law Lawyer from 3:00 pm until 5:00 pm. To start a chat session\, click on the chat icon on the bottom right-hand corner of NSLA’s homepage.
URL:https://www.nslegalaid.ca/event/chat-online-with-a-family-law-lawyer-2-2-2018-05-25-2018-05-29-2018-06-26-2-2018-07-10-2018-09-11-2018-11-27-2019-01-29-2-2019-04-30-2019-06-25-2019-09-24-2/2019-10-01/
LOCATION:Online\, Nova Scotia\, Canada
GEO:44.6819866;-63.744311
END:VEVENT
BEGIN:VEVENT
DTSTART;TZID=America/Halifax:20190927T100000
DTEND;TZID=America/Halifax:20190927T140000
DTSTAMP:20260420T152122
CREATED:20190507T162723Z
LAST-MODIFIED:20191022T124406Z
UID:10879-1569578400-1569592800@www.nslegalaid.ca
SUMMARY:Wagmatcook NSLA Legal Clinic
DESCRIPTION:Summary advice (quick and limited legal advice) focusing on social justice matters (incoming and housing security issues\, Canada Pension  Plan (CPP) Disability\, Employment Insurance (EI)); criminal law; and family law. Assistance will also be provided to apply for full-service representation where appropriate. Call Alison Aho at 1-877-563-2295 to schedule an appointment. Walk-in visitors will also be seen between 10:00 am and 2:00 pm. Please call ahead to make sure the clinic is open as hours and operation are subject to change.
URL:https://www.nslegalaid.ca/event/wagmatcook-nsla-legal-clinic-9-2-2-2-2-2-2-2-2019-06-28-2019-09-27/2019-09-27/
LOCATION:Wagmatcook Band Office\, 75 Humes Rear Road\, Wagmatcook\, Nova Scotia\, B0E 3N0\, Canada
GEO:46.0741845;-60.9199333
X-APPLE-STRUCTURED-LOCATION;VALUE=URI;X-ADDRESS=Wagmatcook Band Office 75 Humes Rear Road Wagmatcook Nova Scotia B0E 3N0 Canada;X-APPLE-RADIUS=500;X-TITLE=75 Humes Rear Road:geo:-60.9199333,46.0741845
END:VEVENT
END:VCALENDAR